BEGIN:VCALENDAR
VERSION:2.0
PRODID:-//ChamberMaster//Event Calendar 2.0//EN
METHOD:PUBLISH
X-PUBLISHED-TTL:P3D
REFRESH-INTERVAL:P3D
CALSCALE:GREGORIAN
BEGIN:VEVENT
DTSTART;VALUE=DATE:20250206
DTEND;VALUE=DATE:20250208
TRANSP:TRANSPARENT
X-MICROSOFT-CDO-ALLDAYEVENT:TRUE
SUMMARY:Community Event: Professional Certificate in Sustainability Strategy and Management in Aviation
DESCRIPTION:Learn from world-renowned experts who are at the forefront of research and development in Flying Green\, Green Skies with Sustainability Strategy for Aviation. The Professional Certificate in Sustainability Strategy and Management in Aviation offers a comprehensive 2-day program of in-person classes on Thursday and Friday (8:30 a.m   4:30 p.m). This allows participants to earn a professional certificate in sustainability strategy and management in aviation in as little as 2 days.\n\n\n\nLearn more about the certification here
X-ALT-DESC;FMTTYPE=text/html:<span style="font-family: Lato\, sans-serif\; font-size: 18px\;">Learn from world-renowned experts who are at the forefront of research and development in Flying Green\, Green Skies with Sustainability Strategy for Aviation. The Professional Certificate in Sustainability Strategy and Management in Aviation offers a comprehensive 2-day program of in-person classes on Thursday and Friday (8:30 a.m &ndash\; 4:30 p.m). This allows participants to earn a professional certificate in sustainability strategy and management in aviation in as little as 2 days.<br />\n<br />\nLearn more about the certification <a href="https://jindal.utdallas.edu/certificate-programs/professional/professional-certificate-in-sustainability-strategy-and-management-in-aviation/">here</a></span>
LOCATION:
UID:e.1719.12625
SEQUENCE:3
DTSTAMP:20260421T131754Z
URL:https://business.richardsonchamber.com/events/details/community-event-professional-certificate-in-sustainability-strategy-and-management-in-aviation-12625
END:VEVENT

END:VCALENDAR
