BEGIN:VCALENDAR
VERSION:2.0
PRODID:-//ChamberMaster//Event Calendar 2.0//EN
METHOD:PUBLISH
X-PUBLISHED-TTL:P3D
REFRESH-INTERVAL:P3D
CALSCALE:GREGORIAN
BEGIN:VEVENT
DTSTART:20240713T150000Z
DTEND:20240713T190000Z
X-MICROSOFT-CDO-ALLDAYEVENT:FALSE
SUMMARY:Community Event - Let's Elevate Career Exploration Expo
DESCRIPTION:Confused about what career you should choose? Stuck in a career that doesn't pay? Don't know what other careers are out there? Been locked out of a career because of mistakes you've made in the past? Want to help your child learn more about their career options? If you've answered "yes" to any of these questions\, then this information is for you! \n\n\n\nOn Saturday\, July 13\, Let's Elevate\, Inc. is holding a FREE Career Exploration Expo\, ANY TIME between the hours of 10:00 AM and 2:00 PM at Christ Community Church. This event is open to the entire community and is designed to help people of ALL ages explore possible first-time careers\, start new careers\, or add a "side" career for additional income. \n\n\n\nCome learn from experts:\n\n	What it takes to be successful - and what you can expect to get paid - in careers ranging from sales/marketing\, HVAC\, the legal field\, medical diagnostics\, digital design\, data management\, and more. \n	How to repair your credit which otherwise can limit your career. \n	Career opportunities beyond a past felony conviction.\n	Experts sharing from their experiences at KIND Snacks\, R.J. Reynolds\, Smucker\, Lennox International\, Dallas Leadership Foundation\, and more.\n\nRegistration is not required\, but it is requested\, to help us get an accurate count: If you're planning to come to this free event\, anytime between the hours of 10:00 AM and 2:00 PM on Saturday\, July 13\, please register here:\n\nhttps://www.eventbrite.com/e/lets-elevates-career-exploration-expo-tickets-919708562067?aff=oddtdtcreator
X-ALT-DESC;FMTTYPE=text/html:<span style="color:navy"><span style="font-family:helvetica\,sans-serif">Confused about what career you should choose? Stuck in a career that doesn&#39\;t pay? Don&#39\;t know what other careers are out there? Been locked out of a career because of mistakes you&#39\;ve made in the past? Want to help your child learn more about their career options?<strong><span style="font-family:helvetica\,sans-serif"> If you&#39\;ve answered &quot\;yes&quot\; to any of these questions\, then this information&nbsp\;is for you!&nbsp\;</span></strong><br />\n<br />\n<strong><span style="font-family:helvetica\,sans-serif">On Saturday\, July 13</span></strong>\, Let&#39\;s Elevate\, Inc. is holding <strong><span style="font-family:helvetica\,sans-serif">a FREE Career Exploration Expo\,&nbsp\;ANY TIME&nbsp\;between the hours of 10:00 AM and 2:00 PM</span></strong> at Christ Community Church. This event is open to the entire community and is designed to help people of ALL ages explore possible first-time careers\, start new careers\, or add a &quot\;side&quot\; career for additional income.&nbsp\;<br />\n<br />\n<strong><span style="font-family:helvetica\,sans-serif">Come learn from experts:</span></strong></span></span>\n<ul>\n	<li style="text-align:justify"><span style="color:navy"><span style="font-family:helvetica\,sans-serif">What it takes to be successful - and what you can expect to get paid - in careers ranging from sales/marketing\, HVAC\, the legal field\, medical diagnostics\, digital design\, data management\, and more. </span></span></li>\n	<li style="text-align:justify"><span style="color:navy"><span style="font-family:helvetica\,sans-serif">How to repair your credit which otherwise can limit your career. </span></span></li>\n	<li style="text-align:justify"><span style="color:navy"><span style="font-family:helvetica\,sans-serif">Career opportunities beyond a past felony conviction.</span></span></li>\n	<li style="text-align:justify"><span style="color:navy"><span style="font-family:helvetica\,sans-serif">Experts sharing from their experiences at KIND Snacks\, R.J. Reynolds\, Smucker\, Lennox International\, Dallas Leadership Foundation\, and more.</span></span></li>\n</ul>\n<span style="color:navy"><span style="font-family:helvetica\,sans-serif">Registration is not required\, but it is requested\, to help us get an accurate count: <strong><span style="font-family:helvetica\,sans-serif">If you&#39\;re planning to come to this free event\, anytime between the hours of 10:00 AM and 2:00 PM on Saturday\, July 13\, please register here:</span></strong></span></span><br />\nhttps://www.eventbrite.com/e/lets-elevates-career-exploration-expo-tickets-919708562067?aff=oddtdtcreator
LOCATION:Christ Community Church 701 Centennial Blvd. Richardson\, TX 75081
UID:e.1719.12416
SEQUENCE:3
DTSTAMP:20260425T021419Z
URL:https://business.richardsonchamber.com/events/details/community-event-let-s-elevate-career-exploration-expo-12416
END:VEVENT

END:VCALENDAR
