BEGIN:VCALENDAR
VERSION:2.0
PRODID:-//ChamberMaster//Event Calendar 2.0//EN
METHOD:PUBLISH
X-PUBLISHED-TTL:P3D
REFRESH-INTERVAL:P3D
CALSCALE:GREGORIAN
BEGIN:VEVENT
DTSTART:20240517T160000Z
DTEND:20240517T230000Z
X-MICROSOFT-CDO-ALLDAYEVENT:FALSE
SUMMARY:Community Event - Golf Tournament
DESCRIPTION:Richardson Woman's Club will hold the Club's 17th annual Golf Tournament on May 17\, 2024.\n\nThis is a fundraiser that benefits the Club's philanthropies of grants to non-profit agencies and scholarships to high school seniors in RISD\, senior residents of Richardson or a child of a first responder.
X-ALT-DESC;FMTTYPE=text/html:Richardson Woman&#39\;s Club will hold the Club&#39\;s 17th annual Golf Tournament on May 17\, 2024.<br />\nThis is a fundraiser that benefits the Club&#39\;s philanthropies of grants to non-profit agencies and scholarships to high school seniors in RISD\, senior residents of Richardson or a child of a first responder.
LOCATION:Richardson Sherrill Park
UID:e.1719.12398
SEQUENCE:3
DTSTAMP:20260422T085026Z
URL:https://business.richardsonchamber.com/events/details/community-event-golf-tournament-12398
END:VEVENT

END:VCALENDAR
