BEGIN:VCALENDAR
VERSION:2.0
PRODID:-//ChamberMaster//Event Calendar 2.0//EN
METHOD:PUBLISH
X-PUBLISHED-TTL:P3D
REFRESH-INTERVAL:P3D
CALSCALE:GREGORIAN
BEGIN:VEVENT
DTSTART:20240504T133000Z
DTEND:20240504T210000Z
X-MICROSOFT-CDO-ALLDAYEVENT:FALSE
SUMMARY:Community Event - Garden Festival and Tour - May 4
DESCRIPTION:Richardson Woman's Club is holding the Club's 5th Annual Garden Festival and Tour on May 5th. Tickets and tour booklets may be picked up beginning at 8:30 AM. Complimentary coffee and cinnamon rolls will also be served on the grounds starting at 8:30 AM. At the same time\, gifts\, plants and baked goods shops will open in the Clubhouse. With Mothers' Day just a week away\, this will be a great opportunity to purchase gifts. At 9:15 and 10:15\, seminars will be held in Founders Hall. Garden tours will begin at 11:00 and end at 4:00 PM. Preordered boxed lunches will be served starting at 11:15 AM. Registration forms may be found on the website\, rwctx.org to download\, print and follow the payment instructions.\n\n\n\nProceeds from this fundraiser go toward the Club's philanthropy of grants to agencies that serve the community and scholarships to RISD students.
X-ALT-DESC;FMTTYPE=text/html:Richardson Woman&#39\;s Club is holding the Club&#39\;s 5th Annual Garden Festival and Tour on May 5th. Tickets and tour booklets may be picked up beginning at 8:30 AM. Complimentary coffee and cinnamon rolls will also be served on the grounds starting at 8:30 AM. At the same time\, gifts\, plants and baked goods shops will open in the Clubhouse. With Mothers&#39\; Day just a week away\, this will be a great opportunity to purchase gifts. At 9:15 and 10:15\, seminars will be held in Founders Hall. Garden tours will begin at 11:00 and end at 4:00 PM. Preordered boxed lunches will be served starting at 11:15 AM. Registration forms may be found on the website\, rwctx.org to download\, print and follow the payment instructions.<br />\n<br />\nProceeds from this fundraiser go toward the Club&#39\;s philanthropy of grants to agencies that serve the community and scholarships to RISD students.
LOCATION:Richardson Woman's Club Estate 2005 N Cliffe Drive Richardson 75082 Home Tour addresses will be provided with tickets.
UID:e.1719.12237
SEQUENCE:3
DTSTAMP:20260422T085406Z
URL:https://business.richardsonchamber.com/events/details/community-event-garden-festival-and-tour-may-4-12237
END:VEVENT

END:VCALENDAR
