BEGIN:VCALENDAR
VERSION:2.0
PRODID:-//ChamberMaster//Event Calendar 2.0//EN
METHOD:PUBLISH
X-PUBLISHED-TTL:P3D
REFRESH-INTERVAL:P3D
CALSCALE:GREGORIAN
BEGIN:VEVENT
DTSTART:20240723T230000Z
DTEND:20240724T000000Z
X-MICROSOFT-CDO-ALLDAYEVENT:FALSE
SUMMARY:Community Event - DART Silver Line Biannual Community Meeting for Richardson
DESCRIPTION:DART designs community meetings to provide residents\, business owners\, and those seeking additional information on the Silver Line project with an in-depth overview of the project with highlights specific to their city. Biannual meetings are held every winter and summer.\n\n\n\n(Registration at 6p | Presentation at 6:30p with Questions and Answers to Follow) For Additional Information about the Silver Line Project\, please visit DART.org/SilverLine\, email SilverLine@DART.org or contact DART Community Relations at 214-749-2721.
X-ALT-DESC;FMTTYPE=text/html:DART designs community meetings to provide residents\, business owners\, and those seeking additional information on the Silver Line project with an in-depth overview of the project with highlights specific to their city. Biannual meetings are held every winter and summer.<br />\n<br />\n(Registration at 6p | Presentation at 6:30p with Questions and Answers to Follow) For Additional Information about the Silver Line Project\, please visit DART.org/SilverLine\, email SilverLine@DART.org or contact DART Community Relations at 214-749-2721.
LOCATION:City of Richardson's Development Services 2360 Campbell Creek Blvd.\; Ste. 525\, Richardson\, TX 75082
UID:e.1719.12449
SEQUENCE:3
DTSTAMP:20260425T022434Z
URL:https://business.richardsonchamber.com/events/details/community-event-dart-silver-line-biannual-community-meeting-for-richardson-12449
END:VEVENT

END:VCALENDAR
