BEGIN:VCALENDAR
VERSION:2.0
PRODID:-//ChamberMaster//Event Calendar 2.0//EN
METHOD:PUBLISH
X-PUBLISHED-TTL:P3D
REFRESH-INTERVAL:P3D
CALSCALE:GREGORIAN
BEGIN:VEVENT
DTSTART:20250118T160000Z
DTEND:20250118T200000Z
X-MICROSOFT-CDO-ALLDAYEVENT:FALSE
SUMMARY:Community Event - Altered States Wellness Grant Opening: A Vision for You
DESCRIPTION:Join us at Altered States Wellness Grand Opening! Free sessions\, drinks\, giveaways\, vision setting activities and special rates.
X-ALT-DESC;FMTTYPE=text/html:<p>Join us at Altered States Wellness Grand Opening! Free sessions\, drinks\, giveaways\, vision setting activities and special rates.</p>\n
LOCATION:212 West Campbell Road Richardson\, TX 75080
UID:e.1719.12633
SEQUENCE:3
DTSTAMP:20260421T174050Z
URL:https://business.richardsonchamber.com/events/details/community-event-altered-states-wellness-grant-opening-a-vision-for-you-12633
END:VEVENT

END:VCALENDAR
