BEGIN:VCALENDAR
VERSION:2.0
PRODID:-//ChamberMaster//Event Calendar 2.0//EN
METHOD:PUBLISH
X-PUBLISHED-TTL:P3D
REFRESH-INTERVAL:P3D
CALSCALE:GREGORIAN
BEGIN:VEVENT
DTSTART:20250220T143000Z
DTEND:20250220T153000Z
X-MICROSOFT-CDO-ALLDAYEVENT:FALSE
SUMMARY:Committee meeting - SBC
DESCRIPTION:Small Business Community committee meeting\n\n\nRichardson Chamber members are welcome to attend if you would like to join this committee\, which plans the Small Business Community events and activities.  \n\n\n\nContact us if you have any questions:\n\nmallory@richardsonchamber.com | 972-792-2820
X-ALT-DESC;FMTTYPE=text/html:<h6>Small Business Community&nbsp\;committee meeting</h6>\n<br />\n<strong>Richardson Chamber members</strong>&nbsp\;are welcome to attend if you would like to join this committee\, which plans the Small Business Community events and activities.&nbsp\;&nbsp\;<br />\n<br />\nContact us if you have any questions:<br />\n<a href="mailto:mallory@richardsonchamber.com?subject=WFD%20committee%20meeting">mallory@richardsonchamber.com</a>&nbsp\;| 972-792-2820
LOCATION:Richardson Chamber of Commerce board room or via Zoom (link included in calendar invites)
UID:e.1719.12613
SEQUENCE:3
DTSTAMP:20260421T113901Z
URL:https://business.richardsonchamber.com/events/details/committee-meeting-sbc-02-20-2025-12613
END:VEVENT

END:VCALENDAR
