BEGIN:VCALENDAR
VERSION:2.0
PRODID:-//ChamberMaster//Event Calendar 2.0//EN
METHOD:PUBLISH
X-PUBLISHED-TTL:P3D
REFRESH-INTERVAL:P3D
CALSCALE:GREGORIAN
BEGIN:VEVENT
DTSTART:20240627T130000Z
DTEND:20240627T140000Z
X-MICROSOFT-CDO-ALLDAYEVENT:FALSE
SUMMARY:Committee meeting - Ambassadors
DESCRIPTION:Due to the normally scheduled Ambassadors meeting falling on July 4th\, this month's Ambassadors Committee meeting will be held the week prior\, on June 27th.\n\n\n\nThe monthly Ambassadors committee meeting is for Richardson Chamber members only.  Members are welcome to attend if you would like to be a part of this committee.  Contact us with any questions you may have:\n\nbballard@richardsonchamber.com | 972-792-2801
X-ALT-DESC;FMTTYPE=text/html:Due to the normally scheduled Ambassadors meeting falling on July 4th\, this month&#39\;s Ambassadors Committee meeting will be held the week prior\, on June 27th.<br />\n<br />\nThe monthly Ambassadors committee meeting is for&nbsp\;<strong>Richardson Chamber members only</strong>.&nbsp\; Members are welcome to attend if you would like to be a part of this committee.&nbsp\; Contact us with any questions you may have:<br />\n<a href="mailto:bballard@richardsonchamber.com?subject=Richardson%20Chamber%20Ambassador">bballard@richardsonchamber.com</a> | 972-792-2801
LOCATION:Richardson Chamber of Commerce 411 Belle Grove Dr. Richardson\, TX
UID:e.1719.12257
SEQUENCE:3
DTSTAMP:20260421T113846Z
URL:https://business.richardsonchamber.com/events/details/committee-meeting-ambassadors-07-04-2024-12257
END:VEVENT

END:VCALENDAR
