BEGIN:VCALENDAR
VERSION:2.0
PRODID:-//ChamberMaster//Event Calendar 2.0//EN
METHOD:PUBLISH
X-PUBLISHED-TTL:P3D
REFRESH-INTERVAL:P3D
CALSCALE:GREGORIAN
BEGIN:VEVENT
DTSTART:20191031T133000Z
DTEND:20191031T213000Z
X-MICROSOFT-CDO-ALLDAYEVENT:FALSE
SUMMARY:*Collin College hosts Disney Institute - Oct 31
DESCRIPTION:Disney's Approach to Leadership Excellence\n\n\n\nCOLLIN CORPORATE COLLEGE HOSTS DISNEY INSTITUTE \n\nPROFESSIONAL DEVELOPMENT COURSE \n\nBACKGROUND: Disney Institute is bringing its renowned professional development course\, "Disney's Approach to Leadership Excellence\," to Frisco.\n\nThe one-day event will allow area professionals to begin to identify the personal and organizational values that drive them as a leader to carry out their organization's vision and their role in operationalizing culture-building and team support. This day of Disney Institute training uses business insights and time-tested examples from Disney parks and resorts worldwide to inspire individuals and organizations to enhance their own customer experience using Disney principles as their guide. This course is beneficial to any leader\, particularly those new to their role\, interested in achieving leadership excellence through a personal journey that explores values alignment\, communication strategies\, and sustainment tools.\n\n\n\nhttp://www.collin.edu/corporatecollege/disney/index.html
X-ALT-DESC;FMTTYPE=text/html:<strong><span style="font-family:calibri\,sans-serif\;"><span style="font-size:11.0pt\;">Disney&rsquo\;s Approach to Leadership Excellence</span></span></strong><br />\n<br />\n<strong>COLLIN CORPORATE COLLEGE HOSTS <em>DISNEY INSTITUTE </em></strong><br />\n<strong>PROFESSIONAL DEVELOPMENT COURSE </strong><br />\n<strong>BACKGROUND: </strong><em>Disney Institute </em>is bringing its renowned professional development course\, &ldquo\;Disney&rsquo\;s Approach to Leadership Excellence\,&rdquo\; to Frisco.<br />\nThe one-day event will allow area professionals to begin to identify the personal and organizational values that drive them as a leader to carry out their organization&rsquo\;s vision and their role in operationalizing culture-building and team support. This day of <em>Disney Institute </em>training uses business insights and time-tested examples from Disney parks and resorts worldwide to inspire individuals and organizations to enhance their own customer experience using Disney principles as their guide. This course is beneficial to any leader\, particularly those new to their role\, interested in achieving leadership excellence through a personal journey that explores values alignment\, communication strategies\, and sustainment tools.<br />\n<br />\n<a href="http://www.collin.edu/corporatecollege/disney/index.html">http://www.collin.edu/corporatecollege/disney/index.html</a>
LOCATION:Collin College Frisco Campus (Preston Ridge) 9700 Wade Blvd Frisco\, TX 75035
UID:e.1719.7518
SEQUENCE:3
DTSTAMP:20260420T134443Z
URL:https://business.richardsonchamber.com/events/details/collin-college-hosts-disney-institute-oct-31-7518
END:VEVENT

END:VCALENDAR
