BEGIN:VCALENDAR
VERSION:2.0
PRODID:-//ChamberMaster//Event Calendar 2.0//EN
METHOD:PUBLISH
X-PUBLISHED-TTL:P3D
REFRESH-INTERVAL:P3D
CALSCALE:GREGORIAN
BEGIN:VEVENT
DTSTART:20190410T210000Z
DTEND:20190410T223000Z
X-MICROSOFT-CDO-ALLDAYEVENT:FALSE
SUMMARY:City Council Candidate Meet and Greet - April 10
DESCRIPTION:Meet and learn about your candidates for the Richardson City Council at our Meet and Greet on April 10. Visitors will be able to learn about their candidates in a casual\, friendly environment at The Drawing Board. Richardson has four contested City Council seats (Place 1\, 3\, 4 and 5) up for election in May\, as well as three uncontested seats. All candidates have agreed to participate.
X-ALT-DESC;FMTTYPE=text/html:Meet and learn about your candidates for the Richardson City Council at our Meet and Greet on April 10. Visitors will be able to learn about their candidates in a casual\, friendly environment at The Drawing Board.&nbsp\;Richardson has four contested City Council seats (Place 1\, 3\, 4 and 5) up for election in May\, as well as three uncontested seats. All candidates have agreed to participate.
LOCATION:The Drawing Board 1900 Jay Ell Drive Richardson\, TX 75081
UID:e.1719.6704
SEQUENCE:3
DTSTAMP:20260423T173712Z
URL:https://business.richardsonchamber.com/events/details/city-council-candidate-meet-and-greet-april-10-6704
END:VEVENT

END:VCALENDAR
