BEGIN:VCALENDAR
VERSION:2.0
PRODID:-//ChamberMaster//Event Calendar 2.0//EN
METHOD:PUBLISH
X-PUBLISHED-TTL:P3D
REFRESH-INTERVAL:P3D
CALSCALE:GREGORIAN
BEGIN:VEVENT
DTSTART:20210414T170000Z
DTEND:20210414T180000Z
X-MICROSOFT-CDO-ALLDAYEVENT:FALSE
SUMMARY:City Council Candidate Forum - April 14
DESCRIPTION:Join us for a lively Richardson City Council Candidate Forum\, where candidates will tell you about themselves\, their experience\, and their policy ideas for Richardson. \n\n\n\nKyle Kepner and Joe Corcoran are running for Place 4 on the council. Daniel Burdette\, Marilyn Frederick and Arefin Shamsul are running for Place 6.
X-ALT-DESC;FMTTYPE=text/html:Join us&nbsp\;for a lively Richardson&nbsp\;City Council Candidate Forum\, where candidates&nbsp\;will tell you about themselves\, their experience\, and their policy ideas for Richardson.&nbsp\;<br />\n<br />\nKyle Kepner and Joe Corcoran are running for Place 4 on the council. Daniel Burdette\, Marilyn Frederick and Arefin Shamsul are running for Place 6.&nbsp\;&nbsp\;
LOCATION:Virtual event
UID:e.1719.8698
SEQUENCE:3
DTSTAMP:20260421T030725Z
URL:https://business.richardsonchamber.com/events/details/city-council-candidate-forum-april-14-8698
END:VEVENT

END:VCALENDAR
