BEGIN:VCALENDAR
VERSION:2.0
PRODID:-//ChamberMaster//Event Calendar 2.0//EN
METHOD:PUBLISH
X-PUBLISHED-TTL:P3D
REFRESH-INTERVAL:P3D
CALSCALE:GREGORIAN
BEGIN:VEVENT
DTSTART:20250219T131500Z
DTEND:20250219T143000Z
X-MICROSOFT-CDO-ALLDAYEVENT:FALSE
SUMMARY:CANCELLED - Business Network - Feb 19
DESCRIPTION:DUE TO INCLEMENT WEATHER\, BUSINESS NETWORK WILL NOT BE MEETING THIS WEEK\n\n\n\nJoin us every Wednesday at the IQ HQ for the Richardson Business Network Breakfast\, fostering connections among local professionals. Whether you're a seasoned entrepreneur or looking to expand your network\, this weekly event provides a platform for sharing insights and exploring collaborations.
X-ALT-DESC;FMTTYPE=text/html:<strong>DUE TO INCLEMENT WEATHER\, BUSINESS NETWORK WILL NOT BE MEETING THIS WEEK</strong><br />\n<br />\nJoin us every Wednesday at the IQ HQ for the Richardson Business Network Breakfast\, fostering connections among local professionals. Whether you&#39\;re a seasoned entrepreneur or looking to expand your network\, this weekly event provides a platform for sharing insights and exploring collaborations.
LOCATION:The IQ HQ 1302 E. Collins Blvd. Richardson
UID:e.1719.12551
SEQUENCE:3
DTSTAMP:20260421T113658Z
URL:https://business.richardsonchamber.com/events/details/cancelled-business-network-feb-19-12551
END:VEVENT

END:VCALENDAR
