BEGIN:VCALENDAR
VERSION:2.0
PRODID:-//ChamberMaster//Event Calendar 2.0//EN
METHOD:PUBLISH
X-PUBLISHED-TTL:P3D
REFRESH-INTERVAL:P3D
CALSCALE:GREGORIAN
BEGIN:VEVENT
DTSTART:20210127T131500Z
DTEND:20210127T143000Z
X-MICROSOFT-CDO-ALLDAYEVENT:FALSE
SUMMARY:Business Network (Virtual) - Jan 27
DESCRIPTION:Tri-chair Goals Presentation**\n\n\n\n\n\n                             \n\n                        \n\n                         \n\n                                                    \n\n                                                       \n\n\n\n\n\nDue to social distancing\, please join us Wednesday for our virtual Richardson Business Network Breakfast. Check-in will begin at 7:15am. Please give yourself enough time to make sure webcam/Phone and microphone work. We look forward to seeing you soon!
X-ALT-DESC;FMTTYPE=text/html:<p class="x_MsoNormal" style="margin: 0in 0in 0.0001pt\; color: rgb(32\, 31\, 30)\;"><strong><span style="font-size:16px\;">&nbsp\;&nbsp\;&nbsp\;&nbsp\;&nbsp\;&nbsp\;&nbsp\;&nbsp\;&nbsp\;&nbsp\;&nbsp\;&nbsp\;&nbsp\;&nbsp\;&nbsp\;&nbsp\;&nbsp\;&nbsp\;&nbsp\;&nbsp\;&nbsp\;&nbsp\;&nbsp\;&nbsp\;&nbsp\;&nbsp\;&nbsp\;&nbsp\;&nbsp\;&nbsp\;&nbsp\;&nbsp\;&nbsp\;&nbsp\;&nbsp\;&nbsp\;&nbsp\;&nbsp\;&nbsp\;&nbsp\;&nbsp\;&nbsp\; </span><span style="font-size:18px\;">Tri-chair Goals Presentation**</span></strong><br />\n<br />\n<br />\n<span style="font-size:18px\;"><strong><font face="arial"><span style="color:#FF0000\;">&nbsp\; &nbsp\; &nbsp\; &nbsp\; &nbsp\;&nbsp\; &nbsp\; &nbsp\; &nbsp\;&nbsp\; &nbsp\; &nbsp\; &nbsp\; &nbsp\; &nbsp\;&nbsp\; </span></font></strong></span><br />\n<span style="font-size:18px\;"><strong><strong><span style="font-size:16px\;">&nbsp\; &nbsp\; </span></strong>&nbsp\; &nbsp\; &nbsp\; &nbsp\; &nbsp\; &nbsp\; &nbsp\; &nbsp\; &nbsp\; &nbsp\; </strong></span><br />\n<span style="font-size:18px\;"><strong><font face="arial"><span style="color:#FF0000\;">&nbsp\;&nbsp\; &nbsp\; &nbsp\; &nbsp\; &nbsp\; &nbsp\; &nbsp\; &nbsp\; &nbsp\; &nbsp\; &nbsp\; &nbsp\; </span></font></strong></span><br />\n&nbsp\; &nbsp\; &nbsp\; &nbsp\; &nbsp\; &nbsp\; &nbsp\; &nbsp\; &nbsp\; &nbsp\;&nbsp\;&nbsp\; &nbsp\; &nbsp\; &nbsp\; &nbsp\;&nbsp\; &nbsp\; &nbsp\; &nbsp\; &nbsp\; &nbsp\; &nbsp\; &nbsp\; &nbsp\; &nbsp\;&nbsp\;&nbsp\;&nbsp\;&nbsp\;<br />\n&nbsp\; &nbsp\; &nbsp\; &nbsp\; &nbsp\; &nbsp\; &nbsp\; &nbsp\; &nbsp\; &nbsp\; &nbsp\; &nbsp\; &nbsp\; &nbsp\; &nbsp\; &nbsp\; &nbsp\; &nbsp\; &nbsp\; &nbsp\; &nbsp\; &nbsp\; &nbsp\; &nbsp\; &nbsp\; &nbsp\; &nbsp\; &nbsp\;<br />\n<br />\n<br />\n<span style="font-family: Calibri\, sans-serif\; font-size: 18px\;"><span style="margin: 0px\; padding: 0px\; border: 0px\; font-style: inherit\; font-variant: inherit\; font-weight: inherit\; font-stretch: inherit\; line-height: inherit\; vertical-align: baseline\; color: rgb(89\, 89\, 89)\; background-image: initial\; background-position: initial\; background-size: initial\; background-repeat: initial\; background-attachment: initial\; background-origin: initial\; background-clip: initial\;">Due to social distancing\, please join us Wednesday for our virtual&nbsp\;Richardson&nbsp\;Business Network Breakfast. Check-in will begin at 7:15am. Please give yourself enough time to make sure webcam/Phone and microphone work.&nbsp\;We look forward to seeing you soon!</span></span></p>\n\n<p class="x_MsoNormal" style="margin: 0in 0in 0.0001pt\; font-size: 11pt\; font-family: Calibri\, sans-serif\; color: rgb(32\, 31\, 30)\;"><br />\n<br />\n&nbsp\;</p>\n
LOCATION:Zoom Meeting After registering\, you will receive a confirmation email containing information about joining the meeting.
UID:e.1719.8635
SEQUENCE:3
DTSTAMP:20260422T102655Z
URL:https://business.richardsonchamber.com/events/details/business-network-virtual-jan-27-8635
END:VEVENT

END:VCALENDAR
