BEGIN:VCALENDAR
VERSION:2.0
PRODID:-//ChamberMaster//Event Calendar 2.0//EN
METHOD:PUBLISH
X-PUBLISHED-TTL:P3D
REFRESH-INTERVAL:P3D
CALSCALE:GREGORIAN
BEGIN:VEVENT
DTSTART:20200805T121500Z
DTEND:20200805T133000Z
X-MICROSOFT-CDO-ALLDAYEVENT:FALSE
SUMMARY:Business Network (Virtual)
DESCRIPTION:This Week we will be hearing from our Sponsor BB&T now a company of Truest Bank. Ankit Rajora will be presenting on Topics involving his company during the Coronavirus and its evolution.\n\n \n\n\n\nDue to social distancing\, please join us Wednesday for our virtual Richardson Business Network Breakfast. Check-in will begin at 7:15am. Please give yourself enough time to make sure webcam/Phone and microphone work. We look forward to seeing you soon!
X-ALT-DESC;FMTTYPE=text/html:<p class="x_MsoNormal" style="margin: 0in 0in 0.0001pt\; font-size: 11pt\; font-family: Calibri\, sans-serif\; color: rgb(32\, 31\, 30)\;"><span style="background:white\;"><span style="color:black\;"><span style="font-size:12.0pt\;">This Week we will be hearing from our Sponsor BB&amp\;T now a company of Truest Bank. Ankit Rajora will be presenting on Topics involving his company during the Coronavirus and its evolution.</span></span></span><br />\n<span style="font-size:20px\;"><strong>&nbsp\;</strong></span><br />\n<br />\n<span style="font-size:18px\;"><span style="margin: 0px\; padding: 0px\; border: 0px\; font-style: inherit\; font-variant: inherit\; font-weight: inherit\; font-stretch: inherit\; line-height: inherit\; vertical-align: baseline\; color: rgb(89\, 89\, 89)\; background-image: initial\; background-position: initial\; background-size: initial\; background-repeat: initial\; background-attachment: initial\; background-origin: initial\; background-clip: initial\;">Due to social distancing\, please join us Wednesday for our virtual&nbsp\;Richardson&nbsp\;Business Network Breakfast. Check-in will begin at 7:15am. Please give yourself enough time to make sure webcam/Phone and microphone work.&nbsp\;We look forward to seeing you soon!</span></span></p>\n\n<p class="x_MsoNormal" style="margin: 0in 0in 0.0001pt\; font-size: 11pt\; font-family: Calibri\, sans-serif\; color: rgb(32\, 31\, 30)\;"><br />\n<br />\n&nbsp\;</p>\n
LOCATION:Zoom Meeting (Register for link)
UID:e.1719.8336
SEQUENCE:3
DTSTAMP:20260422T035948Z
URL:https://business.richardsonchamber.com/events/details/business-network-virtual-8336
END:VEVENT

END:VCALENDAR
