BEGIN:VCALENDAR
VERSION:2.0
PRODID:-//ChamberMaster//Event Calendar 2.0//EN
METHOD:PUBLISH
X-PUBLISHED-TTL:P3D
REFRESH-INTERVAL:P3D
CALSCALE:GREGORIAN
BEGIN:VEVENT
DTSTART:20241120T131500Z
DTEND:20241120T143000Z
X-MICROSOFT-CDO-ALLDAYEVENT:FALSE
SUMMARY:Business Network - November 20
DESCRIPTION:Join us every Wednesday at the IQ HQ for the Richardson Business Network Breakfast\, fostering connections among local professionals. Whether you're a seasoned entrepreneur or looking to expand your network\, this weekly event provides a platform for sharing insights and exploring collaborations. \n\n\n\nThis week's BizNet will be a Thanksgiving Celebration!
X-ALT-DESC;FMTTYPE=text/html:Join us every Wednesday at the IQ HQ for the Richardson Business Network Breakfast\, fostering connections among local professionals. Whether you&#39\;re a seasoned entrepreneur or looking to expand your network\, this weekly event provides a platform for sharing insights and exploring collaborations.&nbsp\;<br />\n<br />\nThis week&#39\;s BizNet will be a Thanksgiving Celebration!&nbsp\;
LOCATION:The IQ HQ
UID:e.1719.12504
SEQUENCE:3
DTSTAMP:20260421T205644Z
URL:https://business.richardsonchamber.com/events/details/business-network-november-20-12504
END:VEVENT

END:VCALENDAR
