BEGIN:VCALENDAR
VERSION:2.0
PRODID:-//ChamberMaster//Event Calendar 2.0//EN
METHOD:PUBLISH
X-PUBLISHED-TTL:P3D
REFRESH-INTERVAL:P3D
CALSCALE:GREGORIAN
BEGIN:VEVENT
DTSTART:20230510T121500Z
DTEND:20230510T133000Z
X-MICROSOFT-CDO-ALLDAYEVENT:FALSE
SUMMARY:Business Network - May 10
DESCRIPTION:Join us for breakfast\, coffee\, networking and our featured speaker. \n\n\n\nSpeaker: Grant Tonne\, J Grant Insurance\n\nTopic: Insurance Tips
X-ALT-DESC;FMTTYPE=text/html:<font color="#201f1e" face="OpenSans\, sans-serif"><span style="font-size: 15px\;"><b>&nbsp\;&nbsp\;Join us for breakfast\, coffee\, networking and our featured speaker.&nbsp\;<br />\n<br />\nSpeaker: Grant Tonne\, J Grant Insurance</b></span></font><br />\nTopic: Insurance Tips&nbsp\;<br />\n&nbsp\;
LOCATION:The Drawing Board 1900 Jay Ell Richardson\, TX 75081
UID:e.1719.12013
SEQUENCE:3
DTSTAMP:20260421T124943Z
URL:https://business.richardsonchamber.com/events/details/business-network-may-10-12013
END:VEVENT

END:VCALENDAR
