BEGIN:VCALENDAR
VERSION:2.0
PRODID:-//ChamberMaster//Event Calendar 2.0//EN
METHOD:PUBLISH
X-PUBLISHED-TTL:P3D
REFRESH-INTERVAL:P3D
CALSCALE:GREGORIAN
BEGIN:VEVENT
DTSTART:20230104T131500Z
DTEND:20230104T143000Z
X-MICROSOFT-CDO-ALLDAYEVENT:FALSE
SUMMARY:Business Network - Jan 4
DESCRIPTION:Kick off the new year with our Business Network group! Join us for breakfast\, coffee\, networking and a featured speaker. \n\n\n\nSpeaker: Julia Zhange\, International Culture Cross Foundation\n\nTopic: Chinese New Year Gala Event
X-ALT-DESC;FMTTYPE=text/html:<font color="#201f1e" face="OpenSans\, sans-serif"><span style="font-size: 15px\;"><b>Kick off the new year with our Business Network group! Join us for breakfast\, coffee\, networking and a featured speaker.&nbsp\;<br />\n<br />\nSpeaker: Julia Zhange\, International Culture Cross Foundation</b></span></font><br />\nTopic: Chinese New Year Gala Event&nbsp\;<br />\n&nbsp\; &nbsp\; &nbsp\; &nbsp\; &nbsp\; &nbsp\; &nbsp\; &nbsp\; &nbsp\; &nbsp\; &nbsp\; &nbsp\; &nbsp\; &nbsp\;&nbsp\;
LOCATION:The Drawing Board 1900 Jay Ell Richardson\, TX 75081
UID:e.1719.11847
SEQUENCE:3
DTSTAMP:20260421T083938Z
URL:https://business.richardsonchamber.com/events/details/business-network-jan-4-11847
END:VEVENT

END:VCALENDAR
