BEGIN:VCALENDAR
VERSION:2.0
PRODID:-//ChamberMaster//Event Calendar 2.0//EN
METHOD:PUBLISH
X-PUBLISHED-TTL:P3D
REFRESH-INTERVAL:P3D
CALSCALE:GREGORIAN
BEGIN:VEVENT
DTSTART:20250115T131500Z
DTEND:20250115T143000Z
X-MICROSOFT-CDO-ALLDAYEVENT:FALSE
SUMMARY:Business Network - Jan. 15th
DESCRIPTION:Join us every Wednesday at the IQ HQ for the Richardson Business Network Breakfast\, fostering connections among local professionals. Whether you're a seasoned entrepreneur or looking to expand your network\, this weekly event provides a platform for sharing insights and exploring collaborations. This week\, we will hear from Carie Dallman from Cherry Tree Realty and Luke Hamlett from Highlands Residential Mortgage to lead a discussion on the current real estate market.\n\n\n\nCherry Tree Realty Group\, led by Carie Dallmann\, specializes in North Dallas residential real estate\, delivering expert guidance\, personalized service\, and seamless home-buying and selling experiences. She has been creating exceptional client experiences since 2018 and has served many families all over the metroplex.\n\n\n\nLuke Hamlett\, Sr. Mortgage Advisor at Highlands Residential Mortgage\, provides expert home financing solutions\, personalized guidance\, and exceptional service to help clients achieve their homeownership dreams.  He is dedicated to simplifying the home loan process\, providing tailored solutions\, and delivering outstanding client care. He prides himself on expertise and integrity\, serving you at the highest level.
X-ALT-DESC;FMTTYPE=text/html:Join us every Wednesday at the IQ HQ for the Richardson Business Network Breakfast\, fostering connections among local professionals. Whether you&#39\;re a seasoned entrepreneur or looking to expand your network\, this weekly event provides a platform for sharing insights and exploring collaborations. This week\, we will hear from Carie Dallman from Cherry Tree Realty and Luke Hamlett from Highlands Residential Mortgage to lead a discussion on the current real estate market.<br />\n<br />\nCherry Tree Realty Group\, led by Carie Dallmann\, specializes in North Dallas residential real estate\, delivering expert guidance\, personalized service\, and seamless home-buying and selling experiences.&nbsp\;She has been creating exceptional client experiences since 2018 and has served many families all over the metroplex.<br />\n<br />\nLuke Hamlett\, Sr. Mortgage Advisor at Highlands Residential Mortgage\, provides expert home financing solutions\, personalized guidance\, and exceptional service to help clients achieve their homeownership dreams.&nbsp\; He is dedicated to simplifying the home loan process\, providing tailored solutions\, and delivering outstanding client care. He prides himself on expertise and integrity\, serving you at the highest level.
LOCATION:The IQ HQ 1302 E. Collins Blvd. Richardson
UID:e.1719.12546
SEQUENCE:3
DTSTAMP:20260421T173942Z
URL:https://business.richardsonchamber.com/events/details/business-network-jan-15th-12546
END:VEVENT

END:VCALENDAR
