BEGIN:VCALENDAR
VERSION:2.0
PRODID:-//ChamberMaster//Event Calendar 2.0//EN
METHOD:PUBLISH
X-PUBLISHED-TTL:P3D
REFRESH-INTERVAL:P3D
CALSCALE:GREGORIAN
BEGIN:VEVENT
DTSTART:20241218T131500Z
DTEND:20241218T143000Z
X-MICROSOFT-CDO-ALLDAYEVENT:FALSE
SUMMARY:Business Network Holiday Party - December 18
DESCRIPTION:For our last BizNet of the year\, we will be having a Holiday Party sponsored by The Golf Ranch! Come out and enjoy treats\, games and prizes as we close out a great year!\n\n\n\nJoin us every Wednesday at the IQ HQ for the Richardson Business Network Breakfast\, fostering connections among local professionals. Whether you're a seasoned entrepreneur or looking to expand your network\, this weekly event provides a platform for sharing insights and exploring collaborations.
X-ALT-DESC;FMTTYPE=text/html:For our last BizNet of the year\, we will be having a Holiday Party sponsored by <a href="https://www.golfranchusa.com/tx/richardson">The Golf Ranch</a>! Come out and enjoy treats\, games and prizes as we close out a great year!<br />\n<br />\nJoin us every Wednesday at the IQ HQ for the Richardson Business Network Breakfast\, fostering connections among local professionals. Whether you&#39\;re a seasoned entrepreneur or looking to expand your network\, this weekly event provides a platform for sharing insights and exploring collaborations.
LOCATION:The IQ HQ
UID:e.1719.12508
SEQUENCE:3
DTSTAMP:20260421T203650Z
URL:https://business.richardsonchamber.com/events/details/business-network-holiday-party-december-18-12508
END:VEVENT

END:VCALENDAR
