BEGIN:VCALENDAR
VERSION:2.0
PRODID:-//ChamberMaster//Event Calendar 2.0//EN
METHOD:PUBLISH
X-PUBLISHED-TTL:P3D
REFRESH-INTERVAL:P3D
CALSCALE:GREGORIAN
BEGIN:VEVENT
DTSTART:20250205T131500Z
DTEND:20250205T143000Z
X-MICROSOFT-CDO-ALLDAYEVENT:FALSE
SUMMARY:Business Network - Feb 5
DESCRIPTION:Join us every Wednesday at the IQ HQ for the Richardson Business Network Breakfast\, fostering connections among local professionals. Whether you're a seasoned entrepreneur or looking to expand your network\, this weekly event provides a platform for sharing insights and exploring collaborations.\n\n\n\nThis week\, come hear from Traci Steelman with Raymond James Financial Services.
X-ALT-DESC;FMTTYPE=text/html:Join us every Wednesday at the IQ HQ for the Richardson Business Network Breakfast\, fostering connections among local professionals. Whether you&#39\;re a seasoned entrepreneur or looking to expand your network\, this weekly event provides a platform for sharing insights and exploring collaborations.<br />\n<br />\nThis week\, come hear from Traci Steelman with Raymond James Financial Services.
LOCATION:The IQ HQ 1302 E. Collins Blvd. Richardson
UID:e.1719.12549
SEQUENCE:3
DTSTAMP:20260421T113605Z
URL:https://business.richardsonchamber.com/events/details/business-network-feb-5-12549
END:VEVENT

END:VCALENDAR
