BEGIN:VCALENDAR
VERSION:2.0
PRODID:-//ChamberMaster//Event Calendar 2.0//EN
METHOD:PUBLISH
X-PUBLISHED-TTL:P3D
REFRESH-INTERVAL:P3D
CALSCALE:GREGORIAN
BEGIN:VEVENT
DTSTART:20241204T131500Z
DTEND:20241204T143000Z
X-MICROSOFT-CDO-ALLDAYEVENT:FALSE
SUMMARY:Business Network - December 4
DESCRIPTION:Join us every Wednesday at the IQ HQ for the Richardson Business Network Breakfast\, fostering connections among local professionals. Whether you're a seasoned entrepreneur or looking to expand your network\, this weekly event provides a platform for sharing insights and exploring collaborations. This week we are joined by Emmanuel Dalavi from State Farm!
X-ALT-DESC;FMTTYPE=text/html:Join us every Wednesday at the IQ HQ for the Richardson Business Network Breakfast\, fostering connections among local professionals. Whether you&#39\;re a seasoned entrepreneur or looking to expand your network\, this weekly event provides a platform for sharing insights and exploring collaborations. This week we are joined by&nbsp\;Emmanuel Dalavi from State Farm!
LOCATION:The IQ HQ
UID:e.1719.12506
SEQUENCE:3
DTSTAMP:20260421T205612Z
URL:https://business.richardsonchamber.com/events/details/business-network-december-4-12506
END:VEVENT

END:VCALENDAR
