BEGIN:VCALENDAR
VERSION:2.0
PRODID:-//ChamberMaster//Event Calendar 2.0//EN
METHOD:PUBLISH
X-PUBLISHED-TTL:P3D
REFRESH-INTERVAL:P3D
CALSCALE:GREGORIAN
BEGIN:VEVENT
DTSTART:20170712T121500Z
DTEND:20170712T133000Z
X-MICROSOFT-CDO-ALLDAYEVENT:FALSE
SUMMARY:Business Network Breakfast - July 12
DESCRIPTION:Richardson Business Network is our early morning networking/referral group and meets every Wednesday morning from 7:15-8:30 at the HOLIDAY INN Dallas-Richardson\, Richardson\, TX  75080\n\n972.238.1900
X-ALT-DESC;FMTTYPE=text/html:<span style="font-family:arial\,sans-serif\;"><span style="font-size:10pt\;">Richardson Business Network is our early morning networking/referral group and meets every Wednesday morning from 7:15-8:30 at the HOLIDAY INN&nbsp\;Dallas-Richardson\, Richardson\, TX &nbsp\;75080<br />\n972.238.1900</span></span><br />\n&nbsp\;<br />\n<br />\n<span style="font-family:arial\,sans-serif\;"><span style="font-size:10pt\;">&nbsp\;</span></span><br />\n&nbsp\;
LOCATION:HOLIDAY INN Dallas-Richardson 1655 N. Central Expwy. Richardson\, TX 75080 972.238.1900
UID:e.1719.4284
SEQUENCE:3
DTSTAMP:20260423T173338Z
URL:https://business.richardsonchamber.com/events/details/business-network-breakfast-july-12-4284
END:VEVENT

END:VCALENDAR
