BEGIN:VCALENDAR
VERSION:2.0
PRODID:-//ChamberMaster//Event Calendar 2.0//EN
METHOD:PUBLISH
X-PUBLISHED-TTL:P3D
REFRESH-INTERVAL:P3D
CALSCALE:GREGORIAN
BEGIN:VEVENT
DTSTART:20210428T121500Z
DTEND:20210428T133000Z
X-MICROSOFT-CDO-ALLDAYEVENT:FALSE
SUMMARY:Business Network - April 28
DESCRIPTION:Breakout Boogie!
X-ALT-DESC;FMTTYPE=text/html:<p class="x_MsoNormal" style="margin: 0in 0in 0.0001pt\; color: rgb(32\, 31\, 30)\;">Breakout Boogie!</p>\n
LOCATION:Drury Plaza Hotel Dallas Richardson 165 W CityLine Dr.\, Richardson\, TX 75082 After registering\, you will receive a confirmation email containing information about joining the meeting. There will also be a virtual option to attend\, Zoom link will be emailed upon registration.
UID:e.1719.8670
SEQUENCE:3
DTSTAMP:20260420T220349Z
URL:https://business.richardsonchamber.com/events/details/business-network-april-28-8670
END:VEVENT

END:VCALENDAR
