BEGIN:VCALENDAR
VERSION:2.0
PRODID:-//ChamberMaster//Event Calendar 2.0//EN
METHOD:PUBLISH
X-PUBLISHED-TTL:P3D
REFRESH-INTERVAL:P3D
CALSCALE:GREGORIAN
BEGIN:VEVENT
DTSTART:20180314T121500Z
DTEND:20180314T133000Z
X-MICROSOFT-CDO-ALLDAYEVENT:FALSE
SUMMARY:Biz Network Breakfast - March 14
DESCRIPTION:Richardson Business Network is our early morning networking/referral group and meets every Wednesday morning from 7:15-8:30 at the HOLIDAY INN Dallas-Richardson\, Richardson\, TX  75080\n\n972.238.1900
X-ALT-DESC;FMTTYPE=text/html:<span style="background-image:initial\;background-position:initial\;background-size:initial\;background-repeat:initial\;background-attachment:initial\;background-origin:initial\;background-clip:initial\;"><span style="font-family:arial\,sans-serif\;"><span style="font-size:10pt\;">Richardson Business Network is our early morning networking/referral group and meets every Wednesday morning from 7:15-8:30 at the HOLIDAY INN&nbsp\;Dallas-Richardson\, Richardson\, TX &nbsp\;75080</span></span></span><br />\n<span style="font-family:arial\,sans-serif\;"><span style="font-size:10pt\;"><span style="background-image:initial\;background-position:initial\;background-size:initial\;background-repeat:initial\;background-attachment:initial\;background-origin:initial\;background-clip:initial\;"><span style="background-image:initial\;background-position:initial\;background-size:initial\;background-repeat:initial\;background-attachment:initial\;background-origin:initial\;background-clip:initial\;">972.238.1900</span></span></span></span><br />\n&nbsp\;
LOCATION:HOLIDAY INN Dallas-Richardson 1655 N. Central Expwy. Richardson\, TX 75080 972.238.1900
UID:e.1719.4319
SEQUENCE:3
DTSTAMP:20260422T075810Z
URL:https://business.richardsonchamber.com/events/details/biz-network-breakfast-march-14-4319
END:VEVENT

END:VCALENDAR
