BEGIN:VCALENDAR
VERSION:2.0
PRODID:-//ChamberMaster//Event Calendar 2.0//EN
METHOD:PUBLISH
X-PUBLISHED-TTL:P3D
REFRESH-INTERVAL:P3D
CALSCALE:GREGORIAN
BEGIN:VEVENT
DTSTART:20190522T223000Z
DTEND:20190523T003000Z
X-MICROSOFT-CDO-ALLDAYEVENT:FALSE
SUMMARY:*BBQ at SpringHill Suites\, May 22
DESCRIPTION:Come by SpringHill Suites Richardson to Welcome Summer with Hamburgers and Hot Dogs! Yes\, all the trimming included! Enter a chance to will a complimentary weekend night stay and other prizes! So "Flip on Over" to your favorite hotel and let's bring Summer in!
X-ALT-DESC;FMTTYPE=text/html:Come by SpringHill Suites Richardson to Welcome Summer with Hamburgers and Hot Dogs! Yes\, all the trimming included! Enter a chance to will a complimentary weekend night stay and other prizes! So &quot\;Flip on Over&quot\; to your favorite hotel and let&#39\;s bring Summer in!
LOCATION:3251 E. President George Bush HWY Richardson\, TX 75082
UID:e.1719.6767
SEQUENCE:3
DTSTAMP:20260419T211111Z
URL:https://business.richardsonchamber.com/events/details/bbq-at-springhill-suites-may-22-6767
END:VEVENT

END:VCALENDAR
